BEGIN:VCALENDAR
VERSION:2.0
PRODID:-//RIGHTHERE//CALENDARIZE IT V3.2//EN
BEGIN:VTIMEZONE
TZID:Europe/Rome
BEGIN:STANDARD
DTSTART:20251026T010000
TZOFFSETFROM:+0200
TZOFFSETTO:+0100
TZNAME:CET
END:STANDARD
BEGIN:DAYLIGHT
DTSTART:20260329T010000
TZOFFSETFROM:+0100
TZOFFSETTO:+0200
TZNAME:CEST
END:DAYLIGHT
BEGIN:STANDARD
DTSTART:20261025T010000
TZOFFSETFROM:+0200
TZOFFSETTO:+0100
TZNAME:CET
END:STANDARD
END:VTIMEZONE
BEGIN:VEVENT
UID:10071-events@www.federmanager.it
DTSTART;TZID=Europe/Rome:20180613T140000
DTEND;TZID=Europe/Rome:20180613T000000
DTSTAMP;TZID=Europe/Rome:20180523T121506
SUMMARY:Cosa è stato fatto finora qui per il 4.0?
URL:https://www.federmanager.it/eventi/cosa-finora-4-0/
ORGANIZER;CN=Federmanager:
LOCATION:Via Magnanelli\, 6/3\, 40033 Casalecchio di Reno BO
END:VEVENT
END:VCALENDAR