BEGIN:VCALENDAR
VERSION:2.0
PRODID:-//RIGHTHERE//CALENDARIZE IT V3.2//EN
BEGIN:VTIMEZONE
TZID:Europe/Rome
BEGIN:STANDARD
DTSTART:20251026T010000
TZOFFSETFROM:+0200
TZOFFSETTO:+0100
TZNAME:CET
END:STANDARD
BEGIN:DAYLIGHT
DTSTART:20260329T010000
TZOFFSETFROM:+0100
TZOFFSETTO:+0200
TZNAME:CEST
END:DAYLIGHT
BEGIN:STANDARD
DTSTART:20261025T010000
TZOFFSETFROM:+0200
TZOFFSETTO:+0100
TZNAME:CET
END:STANDARD
END:VTIMEZONE
BEGIN:VEVENT
UID:10231-events@www.federmanager.it
DTSTART;TZID=Europe/Rome:20180702T173000
DTEND;TZID=Europe/Rome:20180702T000000
DTSTAMP;TZID=Europe/Rome:20180626T100224
SUMMARY:Il lavoro una sfida a tutte le età
URL:https://www.federmanager.it/eventi/lavoro-sfida-tutte-le-eta/
ORGANIZER;CN=Federmanager:
LOCATION:Via Gaetano Previati\, 1/c\, 23900 Lecco LC
END:VEVENT
END:VCALENDAR