BEGIN:VCALENDAR
VERSION:2.0
PRODID:-//RIGHTHERE//CALENDARIZE IT V3.2//EN
BEGIN:VTIMEZONE
TZID:Europe/Rome
BEGIN:STANDARD
DTSTART:20251026T010000
TZOFFSETFROM:+0200
TZOFFSETTO:+0100
TZNAME:CET
END:STANDARD
BEGIN:DAYLIGHT
DTSTART:20260329T010000
TZOFFSETFROM:+0100
TZOFFSETTO:+0200
TZNAME:CEST
END:DAYLIGHT
BEGIN:STANDARD
DTSTART:20261025T010000
TZOFFSETFROM:+0200
TZOFFSETTO:+0100
TZNAME:CET
END:STANDARD
END:VTIMEZONE
BEGIN:VEVENT
UID:10235-events@www.federmanager.it
DTSTART;TZID=Europe/Rome:20180710T150000
DTEND;TZID=Europe/Rome:20180710T000000
DTSTAMP;TZID=Europe/Rome:20180626T151653
SUMMARY:Percorsi e strumenti per trasformare i propri interessi in un proge
 tto di vita e imprenditoriale
URL:https://www.federmanager.it/eventi/percorsi-strumenti-trasformare-propr
 i-interessi-un-progetto-vita-imprenditoriale/
ORGANIZER;CN=Vises:
LOCATION:Via Larga\, 20122 Milano
END:VEVENT
END:VCALENDAR