BEGIN:VCALENDAR
VERSION:2.0
PRODID:-//RIGHTHERE//CALENDARIZE IT V3.2//EN
BEGIN:VTIMEZONE
TZID:Europe/Rome
BEGIN:STANDARD
DTSTART:20251026T010000
TZOFFSETFROM:+0200
TZOFFSETTO:+0100
TZNAME:CET
END:STANDARD
BEGIN:DAYLIGHT
DTSTART:20260329T010000
TZOFFSETFROM:+0100
TZOFFSETTO:+0200
TZNAME:CEST
END:DAYLIGHT
BEGIN:STANDARD
DTSTART:20261025T010000
TZOFFSETFROM:+0200
TZOFFSETTO:+0100
TZNAME:CET
END:STANDARD
END:VTIMEZONE
BEGIN:VEVENT
UID:10535-events@www.federmanager.it
DTSTART;TZID=Europe/Rome:20180924T140000
DTEND;TZID=Europe/Rome:20180924T000000
DTSTAMP;TZID=Europe/Rome:20180906T100203
SUMMARY:Premio Nostalgia di Futuro
URL:https://www.federmanager.it/eventi/premio-nostalgia-futuro/
ORGANIZER;CN=Federmanager:
LOCATION:Corso Umberto I\, 40\, 80138 Napoli NA
END:VEVENT
END:VCALENDAR