BEGIN:VCALENDAR
VERSION:2.0
PRODID:-//RIGHTHERE//CALENDARIZE IT V3.2//EN
BEGIN:VTIMEZONE
TZID:Europe/Rome
BEGIN:STANDARD
DTSTART:20251026T010000
TZOFFSETFROM:+0200
TZOFFSETTO:+0100
TZNAME:CET
END:STANDARD
BEGIN:DAYLIGHT
DTSTART:20260329T010000
TZOFFSETFROM:+0100
TZOFFSETTO:+0200
TZNAME:CEST
END:DAYLIGHT
BEGIN:STANDARD
DTSTART:20261025T010000
TZOFFSETFROM:+0200
TZOFFSETTO:+0100
TZNAME:CET
END:STANDARD
END:VTIMEZONE
BEGIN:VEVENT
UID:10555-events@www.federmanager.it
DTSTART;TZID=Europe/Rome:20181003T143000
DTEND;TZID=Europe/Rome:20181003T000000
DTSTAMP;TZID=Europe/Rome:20180919T101231
SUMMARY:Osservatorio mercato del lavoro e competenze manageriali – Roma 3
 ottobre 2018
URL:https://www.federmanager.it/eventi/osservatorio-mercato-del-lavoro-comp
 etenze-manageriali-roma-3-ottobre-2018/
ORGANIZER;CN=Federmanager:
LOCATION:Viale dell'Astronomia\, 30\, 00144 Roma RM
END:VEVENT
END:VCALENDAR