BEGIN:VCALENDAR
VERSION:2.0
PRODID:-//RIGHTHERE//CALENDARIZE IT V3.2//EN
BEGIN:VTIMEZONE
TZID:Europe/Rome
BEGIN:STANDARD
DTSTART:20251026T010000
TZOFFSETFROM:+0200
TZOFFSETTO:+0100
TZNAME:CET
END:STANDARD
BEGIN:DAYLIGHT
DTSTART:20260329T010000
TZOFFSETFROM:+0100
TZOFFSETTO:+0200
TZNAME:CEST
END:DAYLIGHT
BEGIN:STANDARD
DTSTART:20261025T010000
TZOFFSETFROM:+0200
TZOFFSETTO:+0100
TZNAME:CET
END:STANDARD
END:VTIMEZONE
BEGIN:VEVENT
UID:10896-events@www.federmanager.it
DTSTART;TZID=Europe/Rome:20181116T093000
DTEND;TZID=Europe/Rome:20181116T000000
DTSTAMP;TZID=Europe/Rome:20181114T155012
SUMMARY:#VirtualTour40: alla scoperta di realtà aziendali innovative
URL:https://www.federmanager.it/eventi/virtualtour40-alla-scoperta-realta-a
 ziendali-innovative/
ORGANIZER;CN=Federmanager:
LOCATION:Via Nicola Lorenzi\, 8\, 16152 Genova GE
END:VEVENT
END:VCALENDAR