BEGIN:VCALENDAR
VERSION:2.0
PRODID:-//RIGHTHERE//CALENDARIZE IT V3.2//EN
BEGIN:VTIMEZONE
TZID:Europe/Rome
BEGIN:STANDARD
DTSTART:20251026T010000
TZOFFSETFROM:+0200
TZOFFSETTO:+0100
TZNAME:CET
END:STANDARD
BEGIN:DAYLIGHT
DTSTART:20260329T010000
TZOFFSETFROM:+0100
TZOFFSETTO:+0200
TZNAME:CEST
END:DAYLIGHT
BEGIN:STANDARD
DTSTART:20261025T010000
TZOFFSETFROM:+0200
TZOFFSETTO:+0100
TZNAME:CET
END:STANDARD
END:VTIMEZONE
BEGIN:VEVENT
UID:10921-events@www.federmanager.it
DTSTART;TZID=Europe/Rome:20181121T143000
DTEND;TZID=Europe/Rome:20181121T183000
DTSTAMP;TZID=Europe/Rome:20181121T132747
SUMMARY:Diventiamo Futuro – 20° Fondirigenti
URL:https://www.federmanager.it/eventi/diventiamo-futuro-20-fondirigenti/
ORGANIZER;CN=Fondirigenti:
LOCATION:Via dei Monti della Farnesina\, 77\, 00135 Roma RM
END:VEVENT
END:VCALENDAR