BEGIN:VCALENDAR
VERSION:2.0
PRODID:-//RIGHTHERE//CALENDARIZE IT V3.2//EN
BEGIN:VTIMEZONE
TZID:Europe/Rome
BEGIN:STANDARD
DTSTART:20251026T010000
TZOFFSETFROM:+0200
TZOFFSETTO:+0100
TZNAME:CET
END:STANDARD
BEGIN:DAYLIGHT
DTSTART:20260329T010000
TZOFFSETFROM:+0100
TZOFFSETTO:+0200
TZNAME:CEST
END:DAYLIGHT
BEGIN:STANDARD
DTSTART:20261025T010000
TZOFFSETFROM:+0200
TZOFFSETTO:+0100
TZNAME:CET
END:STANDARD
END:VTIMEZONE
BEGIN:VEVENT
UID:10976-events@www.federmanager.it
DTSTART;TZID=Europe/Rome:20181207T090000
DTEND;TZID=Europe/Rome:20181207T000000
DTSTAMP;TZID=Europe/Rome:20181127T152623
SUMMARY:Un progetto di collaborazione fra AdsP del Mar Tirreno e Ligure
URL:https://www.federmanager.it/eventi/un-progetto-collaborazione-fra-adsp-
 del-mar-tirreno-ligure/
ORGANIZER;CN=Federmanager:
LOCATION:Piazzale dei Marmi\, 57126 Livorno LI
END:VEVENT
END:VCALENDAR