BEGIN:VCALENDAR
VERSION:2.0
PRODID:-//RIGHTHERE//CALENDARIZE IT V3.2//EN
BEGIN:VTIMEZONE
TZID:Europe/Rome
BEGIN:STANDARD
DTSTART:20251026T010000
TZOFFSETFROM:+0200
TZOFFSETTO:+0100
TZNAME:CET
END:STANDARD
BEGIN:DAYLIGHT
DTSTART:20260329T010000
TZOFFSETFROM:+0100
TZOFFSETTO:+0200
TZNAME:CEST
END:DAYLIGHT
BEGIN:STANDARD
DTSTART:20261025T010000
TZOFFSETFROM:+0200
TZOFFSETTO:+0100
TZNAME:CET
END:STANDARD
END:VTIMEZONE
BEGIN:VEVENT
UID:10983-events@www.federmanager.it
DTSTART;VALUE=DATE:20181210
DTEND;VALUE=DATE:20181213
DTSTAMP;TZID=Europe/Rome:20181203T135905
SUMMARY:3° AIEE Energy Symposium
URL:https://www.federmanager.it/eventi/3-aiee-energy-symposium/
ORGANIZER;CN=Federmanager:
LOCATION:Via Roberto Sarfatti\, 25\, 20100 Milano MI
END:VEVENT
END:VCALENDAR