BEGIN:VCALENDAR
VERSION:2.0
PRODID:-//RIGHTHERE//CALENDARIZE IT V3.2//EN
BEGIN:VTIMEZONE
TZID:Europe/Rome
BEGIN:STANDARD
DTSTART:20251026T010000
TZOFFSETFROM:+0200
TZOFFSETTO:+0100
TZNAME:CET
END:STANDARD
BEGIN:DAYLIGHT
DTSTART:20260329T010000
TZOFFSETFROM:+0100
TZOFFSETTO:+0200
TZNAME:CEST
END:DAYLIGHT
BEGIN:STANDARD
DTSTART:20261025T010000
TZOFFSETFROM:+0200
TZOFFSETTO:+0100
TZNAME:CET
END:STANDARD
END:VTIMEZONE
BEGIN:VEVENT
UID:10996-events@www.federmanager.it
DTSTART;TZID=Europe/Rome:20181211T153000
DTEND;TZID=Europe/Rome:20181211T000000
DTSTAMP;TZID=Europe/Rome:20181204T124113
SUMMARY:LA PRODUCTIVITY DISPERSION E IL FUTURO DEL LAVORO DEI MANAGER NELLA
 FASE DELLA TRASFORMAZIONE DIGITALE
URL:https://www.federmanager.it/eventi/la-productivity-dispersion-futuro-de
 l-lavoro-dei-manager-nella-fase-della-trasformazione-digitale/
ORGANIZER;CN=Federmanager:
LOCATION:Via Orazio\, 92\, 80122\, Napoli
END:VEVENT
END:VCALENDAR