BEGIN:VCALENDAR
VERSION:2.0
PRODID:-//RIGHTHERE//CALENDARIZE IT V3.2//EN
BEGIN:VTIMEZONE
TZID:Europe/Rome
BEGIN:STANDARD
DTSTART:20251026T010000
TZOFFSETFROM:+0200
TZOFFSETTO:+0100
TZNAME:CET
END:STANDARD
BEGIN:DAYLIGHT
DTSTART:20260329T010000
TZOFFSETFROM:+0100
TZOFFSETTO:+0200
TZNAME:CEST
END:DAYLIGHT
BEGIN:STANDARD
DTSTART:20261025T010000
TZOFFSETFROM:+0200
TZOFFSETTO:+0100
TZNAME:CET
END:STANDARD
END:VTIMEZONE
BEGIN:VEVENT
UID:11127-events@www.federmanager.it
DTSTART;TZID=Europe/Rome:20190130T100000
DTEND;TZID=Europe/Rome:20190130T000000
DTSTAMP;TZID=Europe/Rome:20190116T120237
SUMMARY:Una Strategia Energetica per l’Italia – Le vie per la decarboni
 zzazione e lo sviluppo economico e industriale dell’Italia
URL:https://www.federmanager.it/eventi/strategia-energetica-litalia-le-vie-
 la-decarbonizzazione-lo-sviluppo-economico-industriale-dellitalia/
ORGANIZER;CN=Federmanager:
LOCATION:Via Vittorio Veneto\, 89\, 00187 Roma RM
END:VEVENT
END:VCALENDAR