BEGIN:VCALENDAR
VERSION:2.0
PRODID:-//RIGHTHERE//CALENDARIZE IT V3.2//EN
BEGIN:VTIMEZONE
TZID:Europe/Rome
BEGIN:STANDARD
DTSTART:20251026T010000
TZOFFSETFROM:+0200
TZOFFSETTO:+0100
TZNAME:CET
END:STANDARD
BEGIN:DAYLIGHT
DTSTART:20260329T010000
TZOFFSETFROM:+0100
TZOFFSETTO:+0200
TZNAME:CEST
END:DAYLIGHT
BEGIN:STANDARD
DTSTART:20261025T010000
TZOFFSETFROM:+0200
TZOFFSETTO:+0100
TZNAME:CET
END:STANDARD
END:VTIMEZONE
BEGIN:VEVENT
UID:11158-events@www.federmanager.it
DTSTART;TZID=Europe/Rome:20190122T143000
DTEND;TZID=Europe/Rome:20190122T173000
DTSTAMP;TZID=Europe/Rome:20190121T114028
SUMMARY:IL MERCATO ELETTRICO E LE NUOVE FRONTIERE DELL’INNOVAZIONE NELLA 
 RIVOLUZIONE ENERGETICA IN CORSO”- 22 GENNAIO 2019
URL:https://www.federmanager.it/eventi/mercato-elettrico-le-nuove-frontiere
 -dellinnovazione-nella-rivoluzione-energetica-corso-22-gennaio-2019/
LOCATION:via maestri del lavoro\, località Chitarrino 55052\, Fornaci di B
 arga LU
END:VEVENT
END:VCALENDAR