BEGIN:VCALENDAR
VERSION:2.0
PRODID:-//RIGHTHERE//CALENDARIZE IT V3.2//EN
BEGIN:VTIMEZONE
TZID:Europe/Rome
BEGIN:STANDARD
DTSTART:20251026T010000
TZOFFSETFROM:+0200
TZOFFSETTO:+0100
TZNAME:CET
END:STANDARD
BEGIN:DAYLIGHT
DTSTART:20260329T010000
TZOFFSETFROM:+0100
TZOFFSETTO:+0200
TZNAME:CEST
END:DAYLIGHT
BEGIN:STANDARD
DTSTART:20261025T010000
TZOFFSETFROM:+0200
TZOFFSETTO:+0100
TZNAME:CET
END:STANDARD
END:VTIMEZONE
BEGIN:VEVENT
UID:12084-events@www.federmanager.it
DTSTART;TZID=Europe/Rome:20190611T100000
DTEND;TZID=Europe/Rome:20190611T123000
DTSTAMP;TZID=Europe/Rome:20190604T140358
SUMMARY:Le tecnologie amiche delle PMI: digitalizzazione e soluzioni concre
 te per crescere in uno scenario sempre più competitivo
URL:https://www.federmanager.it/eventi/le-tecnologie-amiche-delle-pmi-digit
 alizzazione-soluzioni-concrete-crescere-uno-scenario-sempre-piu-competitiv
 o/
ORGANIZER;CN=Federmanager:
LOCATION:Via d'Aquino\, 28\, 74123 Taranto TA
END:VEVENT
END:VCALENDAR