BEGIN:VCALENDAR
VERSION:2.0
PRODID:-//RIGHTHERE//CALENDARIZE IT V3.2//EN
BEGIN:VTIMEZONE
TZID:Europe/Rome
BEGIN:STANDARD
DTSTART:20251026T010000
TZOFFSETFROM:+0200
TZOFFSETTO:+0100
TZNAME:CET
END:STANDARD
BEGIN:DAYLIGHT
DTSTART:20260329T010000
TZOFFSETFROM:+0100
TZOFFSETTO:+0200
TZNAME:CEST
END:DAYLIGHT
BEGIN:STANDARD
DTSTART:20261025T010000
TZOFFSETFROM:+0200
TZOFFSETTO:+0100
TZNAME:CET
END:STANDARD
END:VTIMEZONE
BEGIN:VEVENT
UID:13018-events@www.federmanager.it
DTSTART;TZID=Europe/Rome:20191018T163000
DTEND;TZID=Europe/Rome:20191018T000000
DTSTAMP;TZID=Europe/Rome:20191011T122626
SUMMARY:Seminario sulla Previdenza “Costruire la propria posizione ai fin
 i della pensione”
URL:https://www.federmanager.it/eventi/seminario-sulla-previdenza-costruire
 -la-propria-posizione-ai-fini-della-pensione/
ORGANIZER;CN=Federmanager:
LOCATION:Viale Amerigo Vespucci\, 42\, 47921
END:VEVENT
END:VCALENDAR