BEGIN:VCALENDAR
VERSION:2.0
PRODID:-//RIGHTHERE//CALENDARIZE IT V3.2//EN
BEGIN:VTIMEZONE
TZID:Europe/Rome
BEGIN:STANDARD
DTSTART:20251026T010000
TZOFFSETFROM:+0200
TZOFFSETTO:+0100
TZNAME:CET
END:STANDARD
BEGIN:DAYLIGHT
DTSTART:20260329T010000
TZOFFSETFROM:+0100
TZOFFSETTO:+0200
TZNAME:CEST
END:DAYLIGHT
BEGIN:STANDARD
DTSTART:20261025T010000
TZOFFSETFROM:+0200
TZOFFSETTO:+0100
TZNAME:CET
END:STANDARD
END:VTIMEZONE
BEGIN:VEVENT
UID:13125-events@www.federmanager.it
DTSTART;TZID=Europe/Rome:20191030T150000
DTEND;TZID=Europe/Rome:20191030T000000
DTSTAMP;TZID=Europe/Rome:20191023T152604
SUMMARY:Fondati nell’economia reale
URL:https://www.federmanager.it/eventi/fondati-nelleconomia-reale/
ORGANIZER;CN=Federmanager:
LOCATION:Viale dell'Astronomia\, 30\, 00144 Roma RM
END:VEVENT
END:VCALENDAR