BEGIN:VCALENDAR
VERSION:2.0
PRODID:-//RIGHTHERE//CALENDARIZE IT V3.2//EN
BEGIN:VTIMEZONE
TZID:Europe/Rome
BEGIN:STANDARD
DTSTART:20251026T010000
TZOFFSETFROM:+0200
TZOFFSETTO:+0100
TZNAME:CET
END:STANDARD
BEGIN:DAYLIGHT
DTSTART:20260329T010000
TZOFFSETFROM:+0100
TZOFFSETTO:+0200
TZNAME:CEST
END:DAYLIGHT
BEGIN:STANDARD
DTSTART:20261025T010000
TZOFFSETFROM:+0200
TZOFFSETTO:+0100
TZNAME:CET
END:STANDARD
END:VTIMEZONE
BEGIN:VEVENT
UID:14016-events@www.federmanager.it
DTSTART;TZID=Europe/Rome:20200128T160000
DTEND;TZID=Europe/Rome:20200128T190000
DTSTAMP;TZID=Europe/Rome:20200120T135656
SUMMARY:Premio giovane manager – Semi finale centro sud
URL:https://www.federmanager.it/eventi/premio-giovane-manager-semi-finale-c
 entro-sud/
ORGANIZER;CN=Federmanager:
LOCATION:Via di Porta Castello\, 44\, 00193 Roma RM
END:VEVENT
END:VCALENDAR