BEGIN:VCALENDAR
VERSION:2.0
PRODID:-//RIGHTHERE//CALENDARIZE IT V3.2//EN
BEGIN:VTIMEZONE
TZID:Europe/Rome
BEGIN:STANDARD
DTSTART:20251026T010000
TZOFFSETFROM:+0200
TZOFFSETTO:+0100
TZNAME:CET
END:STANDARD
BEGIN:DAYLIGHT
DTSTART:20260329T010000
TZOFFSETFROM:+0100
TZOFFSETTO:+0200
TZNAME:CEST
END:DAYLIGHT
BEGIN:STANDARD
DTSTART:20261025T010000
TZOFFSETFROM:+0200
TZOFFSETTO:+0100
TZNAME:CET
END:STANDARD
END:VTIMEZONE
BEGIN:VEVENT
UID:17408-events@www.federmanager.it
DTSTART;TZID=Europe/Rome:20210218T173000
DTEND;TZID=Europe/Rome:20210218T190000
DTSTAMP;TZID=Europe/Rome:20210528T094655
SUMMARY:Il valore della sostenibilità. Profitto\, concorrenza e reputazion
 e d’impresa
URL:https://www.federmanager.it/eventi/il-valore-della-sostenibilita-profit
 to-concorrenza-e-reputazione-dimpresa/
ORGANIZER;CN=Federmanager:
LOCATION:Evento Online
END:VEVENT
END:VCALENDAR