BEGIN:VCALENDAR
VERSION:2.0
PRODID:-//RIGHTHERE//CALENDARIZE IT V3.2//EN
BEGIN:VTIMEZONE
TZID:Europe/Rome
BEGIN:STANDARD
DTSTART:20251026T010000
TZOFFSETFROM:+0200
TZOFFSETTO:+0100
TZNAME:CET
END:STANDARD
BEGIN:DAYLIGHT
DTSTART:20260329T010000
TZOFFSETFROM:+0100
TZOFFSETTO:+0200
TZNAME:CEST
END:DAYLIGHT
BEGIN:STANDARD
DTSTART:20261025T010000
TZOFFSETFROM:+0200
TZOFFSETTO:+0100
TZNAME:CET
END:STANDARD
END:VTIMEZONE
BEGIN:VEVENT
UID:17874-events@www.federmanager.it
DTSTART;TZID=Europe/Rome:20210706T160000
DTEND;TZID=Europe/Rome:20210706T190000
DTSTAMP;TZID=Europe/Rome:20210708T135620
SUMMARY:Il trasferimento del dirigente all’estero – La normativa previd
 enziale applicabile ai lavoratori all’estero e gli effetti della contrib
 uzione estera sul massimale contributivo ex legge 335/1995
URL:https://www.federmanager.it/eventi/il-trasferimento-del-dirigente-alles
 tero-la-normativa-previdenziale-applicabile-ai-lavoratori-allestero-e-gli-
 effetti-della-contribuzione-estera-sul-massimale-contributivo-ex-legge-335
 -19/
ORGANIZER;CN=Federmanager:
LOCATION:Evento Online
END:VEVENT
END:VCALENDAR