BEGIN:VCALENDAR
VERSION:2.0
PRODID:-//RIGHTHERE//CALENDARIZE IT V3.2//EN
BEGIN:VTIMEZONE
TZID:Europe/Rome
BEGIN:STANDARD
DTSTART:20251026T010000
TZOFFSETFROM:+0200
TZOFFSETTO:+0100
TZNAME:CET
END:STANDARD
BEGIN:DAYLIGHT
DTSTART:20260329T010000
TZOFFSETFROM:+0100
TZOFFSETTO:+0200
TZNAME:CEST
END:DAYLIGHT
BEGIN:STANDARD
DTSTART:20261025T010000
TZOFFSETFROM:+0200
TZOFFSETTO:+0100
TZNAME:CET
END:STANDARD
END:VTIMEZONE
BEGIN:VEVENT
UID:17878-events@www.federmanager.it
DTSTART;TZID=Europe/Rome:20210713T160000
DTEND;TZID=Europe/Rome:20210713T190000
DTSTAMP;TZID=Europe/Rome:20210708T140147
SUMMARY:La fiscalità per i lavoratori in distacco estero\, le retribuzioni
 convenzionali e il regime agevolato per i lavoratori impatriati
URL:https://www.federmanager.it/eventi/la-fiscalita-per-i-lavoratori-in-dis
 tacco-estero-le-retribuzioni-convenzionali-e-il-regime-agevolato-per-i-lav
 oratori-impatriati/
ORGANIZER;CN=Federmanager:
LOCATION:Evento Online
END:VEVENT
END:VCALENDAR