BEGIN:VCALENDAR
VERSION:2.0
PRODID:-//RIGHTHERE//CALENDARIZE IT V3.2//EN
BEGIN:VTIMEZONE
TZID:Europe/Rome
BEGIN:STANDARD
DTSTART:20251026T010000
TZOFFSETFROM:+0200
TZOFFSETTO:+0100
TZNAME:CET
END:STANDARD
BEGIN:DAYLIGHT
DTSTART:20260329T010000
TZOFFSETFROM:+0100
TZOFFSETTO:+0200
TZNAME:CEST
END:DAYLIGHT
BEGIN:STANDARD
DTSTART:20261025T010000
TZOFFSETFROM:+0200
TZOFFSETTO:+0100
TZNAME:CET
END:STANDARD
END:VTIMEZONE
BEGIN:VEVENT
UID:17887-events@www.federmanager.it
DTSTART;TZID=Europe/Rome:20210720T103000
DTEND;TZID=Europe/Rome:20210720T120000
DTSTAMP;TZID=Europe/Rome:20210712T175354
SUMMARY:Webinar: temporary management per la finanza e per la crescita dell
 e Pmi
URL:https://www.federmanager.it/eventi/webinar-temporary-management-per-la-
 finanza-e-per-la-crescita-delle-pmi/
ORGANIZER;CN=4.Manager:
LOCATION:Evento Online
END:VEVENT
END:VCALENDAR