BEGIN:VCALENDAR
VERSION:2.0
PRODID:-//RIGHTHERE//CALENDARIZE IT V3.2//EN
BEGIN:VTIMEZONE
TZID:Europe/Rome
BEGIN:STANDARD
DTSTART:20251026T010000
TZOFFSETFROM:+0200
TZOFFSETTO:+0100
TZNAME:CET
END:STANDARD
BEGIN:DAYLIGHT
DTSTART:20260329T010000
TZOFFSETFROM:+0100
TZOFFSETTO:+0200
TZNAME:CEST
END:DAYLIGHT
BEGIN:STANDARD
DTSTART:20261025T010000
TZOFFSETFROM:+0200
TZOFFSETTO:+0100
TZNAME:CET
END:STANDARD
END:VTIMEZONE
BEGIN:VEVENT
UID:18298-events@www.federmanager.it
DTSTART;TZID=Europe/Rome:20211026T170000
DTEND;TZID=Europe/Rome:20211026T000000
DTSTAMP;TZID=Europe/Rome:20211018T121655
SUMMARY:Webinar Vises – Next generation Eu: un’opportunità per costrui
 re il paese della prossima generazione
URL:https://www.federmanager.it/eventi/webinar-vises-next-generation-eu-uno
 pportunita-per-costruire-il-paese-della-prossima-generazione/
ORGANIZER;CN=Vises:
LOCATION:Evento Online
END:VEVENT
END:VCALENDAR