BEGIN:VCALENDAR
VERSION:2.0
PRODID:-//RIGHTHERE//CALENDARIZE IT V3.2//EN
BEGIN:VTIMEZONE
TZID:Europe/Rome
BEGIN:STANDARD
DTSTART:20251026T010000
TZOFFSETFROM:+0200
TZOFFSETTO:+0100
TZNAME:CET
END:STANDARD
BEGIN:DAYLIGHT
DTSTART:20260329T010000
TZOFFSETFROM:+0100
TZOFFSETTO:+0200
TZNAME:CEST
END:DAYLIGHT
BEGIN:STANDARD
DTSTART:20261025T010000
TZOFFSETFROM:+0200
TZOFFSETTO:+0100
TZNAME:CET
END:STANDARD
END:VTIMEZONE
BEGIN:VEVENT
UID:18569-events@www.federmanager.it
DTSTART;TZID=Europe/Rome:20211120T100000
DTEND;TZID=Europe/Rome:20211120T130000
DTSTAMP;TZID=Europe/Rome:20211117T082012
SUMMARY:EXTRA: la finale Premio Giovane Manager
URL:https://www.federmanager.it/eventi/extra-la-finale-premio-giovane-manag
 er/
ORGANIZER;CN=Federmanager:
LOCATION:Via Nazionale\, 7\, 00184 Roma RM
END:VEVENT
END:VCALENDAR