BEGIN:VCALENDAR
VERSION:2.0
PRODID:-//RIGHTHERE//CALENDARIZE IT V3.2//EN
BEGIN:VTIMEZONE
TZID:Europe/Rome
BEGIN:STANDARD
DTSTART:20251026T010000
TZOFFSETFROM:+0200
TZOFFSETTO:+0100
TZNAME:CET
END:STANDARD
BEGIN:DAYLIGHT
DTSTART:20260329T010000
TZOFFSETFROM:+0100
TZOFFSETTO:+0200
TZNAME:CEST
END:DAYLIGHT
BEGIN:STANDARD
DTSTART:20261025T010000
TZOFFSETFROM:+0200
TZOFFSETTO:+0100
TZNAME:CET
END:STANDARD
END:VTIMEZONE
BEGIN:VEVENT
UID:19665-events@www.federmanager.it
DTSTART;TZID=Europe/Rome:20220509T163000
DTEND;TZID=Europe/Rome:20220509T000000
DTSTAMP;TZID=Europe/Rome:20220426T133201
SUMMARY:Polizza copertura della responsabilità civile e patrimoniale degli
 amministratori e dei dirigenti
URL:https://www.federmanager.it/eventi/polizza-copertura-della-responsabili
 ta-civile-e-patrimoniale-degli-amministratori-e-dipendenti/
ORGANIZER;CN=Federmanager:
LOCATION:Evento Online
END:VEVENT
END:VCALENDAR