BEGIN:VCALENDAR
VERSION:2.0
PRODID:-//RIGHTHERE//CALENDARIZE IT V3.2//EN
BEGIN:VTIMEZONE
TZID:Europe/Rome
BEGIN:STANDARD
DTSTART:20251026T010000
TZOFFSETFROM:+0200
TZOFFSETTO:+0100
TZNAME:CET
END:STANDARD
BEGIN:DAYLIGHT
DTSTART:20260329T010000
TZOFFSETFROM:+0100
TZOFFSETTO:+0200
TZNAME:CEST
END:DAYLIGHT
BEGIN:STANDARD
DTSTART:20261025T010000
TZOFFSETFROM:+0200
TZOFFSETTO:+0100
TZNAME:CET
END:STANDARD
END:VTIMEZONE
BEGIN:VEVENT
UID:20290-events@www.federmanager.it
DTSTART;TZID=Europe/Rome:20221103T170000
DTEND;TZID=Europe/Rome:20221103T184500
DTSTAMP;TZID=Europe/Rome:20221027T130824
SUMMARY:STRATEGIC WAY to USA: Supporting Trade and Technology to Generate I
 ndustrial Connections
URL:https://www.federmanager.it/eventi/strategic-way-to-usa-supporting-trad
 e-and-technology-to-generate-industrial-connections/
ORGANIZER;CN=Federmanager:
LOCATION:Evento Online
END:VEVENT
END:VCALENDAR