BEGIN:VCALENDAR
VERSION:2.0
PRODID:-//RIGHTHERE//CALENDARIZE IT V3.2//EN
BEGIN:VTIMEZONE
TZID:Europe/Rome
BEGIN:STANDARD
DTSTART:20251026T010000
TZOFFSETFROM:+0200
TZOFFSETTO:+0100
TZNAME:CET
END:STANDARD
BEGIN:DAYLIGHT
DTSTART:20260329T010000
TZOFFSETFROM:+0100
TZOFFSETTO:+0200
TZNAME:CEST
END:DAYLIGHT
BEGIN:STANDARD
DTSTART:20261025T010000
TZOFFSETFROM:+0200
TZOFFSETTO:+0100
TZNAME:CET
END:STANDARD
END:VTIMEZONE
BEGIN:VEVENT
UID:6842-events@www.federmanager.it
DTSTART;TZID=Europe/Rome:20161206T163000
DTEND;TZID=Europe/Rome:20161206T190000
DTSTAMP;TZID=Europe/Rome:20161130T120615
SUMMARY:Le premesse per la nuova rivoluzione industriale: un approccio conc
 reto a banda ultralarga e risorse umane
DESCRIPTION:Le imprese e la formazione di fronte alla nuova Rivoluzione ind
 ustriale
URL:https://www.federmanager.it/eventi/le-premesse-la-nuova-rivoluzione-ind
 ustriale-un-approccio-concreto-banda-ultralarga-risorse-umane/
ORGANIZER;CN=Federmanager Academy:
LOCATION:Via Ravenna 14 Roma
END:VEVENT
END:VCALENDAR