BEGIN:VCALENDAR
VERSION:2.0
PRODID:-//RIGHTHERE//CALENDARIZE IT V3.2//EN
BEGIN:VTIMEZONE
TZID:Europe/Rome
BEGIN:STANDARD
DTSTART:20251026T010000
TZOFFSETFROM:+0200
TZOFFSETTO:+0100
TZNAME:CET
END:STANDARD
BEGIN:DAYLIGHT
DTSTART:20260329T010000
TZOFFSETFROM:+0100
TZOFFSETTO:+0200
TZNAME:CEST
END:DAYLIGHT
BEGIN:STANDARD
DTSTART:20261025T010000
TZOFFSETFROM:+0200
TZOFFSETTO:+0100
TZNAME:CET
END:STANDARD
END:VTIMEZONE
BEGIN:VEVENT
UID:6886-events@www.federmanager.it
DTSTART;TZID=Europe/Rome:20161213T100000
DTEND;TZID=Europe/Rome:20161213T133000
DTSTAMP;TZID=Europe/Rome:20161201T110231
SUMMARY:Industria 4.0 opportunita’ per le piccole e medie aziende le espe
 rienze ed i progetti
URL:https://www.federmanager.it/eventi/industria-4-0-opportunita-le-piccole
 -medie-aziende-le-esperienze-ed-progetti-napoli-13-dicembre/
ORGANIZER;CN=Federmanager:
LOCATION:Via Ponte di Tappia\, 25\, 80133
END:VEVENT
END:VCALENDAR