BEGIN:VCALENDAR
VERSION:2.0
PRODID:-//RIGHTHERE//CALENDARIZE IT V3.2//EN
BEGIN:VTIMEZONE
TZID:Europe/Rome
BEGIN:STANDARD
DTSTART:20251026T010000
TZOFFSETFROM:+0200
TZOFFSETTO:+0100
TZNAME:CET
END:STANDARD
BEGIN:DAYLIGHT
DTSTART:20260329T010000
TZOFFSETFROM:+0100
TZOFFSETTO:+0200
TZNAME:CEST
END:DAYLIGHT
BEGIN:STANDARD
DTSTART:20261025T010000
TZOFFSETFROM:+0200
TZOFFSETTO:+0100
TZNAME:CET
END:STANDARD
END:VTIMEZONE
BEGIN:VEVENT
UID:7210-events@www.federmanager.it
DTSTART;TZID=Europe/Rome:20170209T180000
DTEND;TZID=Europe/Rome:20170209T193000
DTSTAMP;TZID=Europe/Rome:20170131T090000
SUMMARY:Meno pubblico più privato\, meno burocrazia più mercato per il ri
 lancio del paese
URL:https://www.federmanager.it/eventi/meno-pubblico-piu-privato-meno-buroc
 razia-piu-mercato-rilancio-del-paese/
ORGANIZER;CN=Federmanager:
LOCATION:Via Ravenna 14 Roma
END:VEVENT
END:VCALENDAR