BEGIN:VCALENDAR
VERSION:2.0
PRODID:-//RIGHTHERE//CALENDARIZE IT V3.2//EN
BEGIN:VTIMEZONE
TZID:Europe/Rome
BEGIN:STANDARD
DTSTART:20251026T010000
TZOFFSETFROM:+0200
TZOFFSETTO:+0100
TZNAME:CET
END:STANDARD
BEGIN:DAYLIGHT
DTSTART:20260329T010000
TZOFFSETFROM:+0100
TZOFFSETTO:+0200
TZNAME:CEST
END:DAYLIGHT
BEGIN:STANDARD
DTSTART:20261025T010000
TZOFFSETFROM:+0200
TZOFFSETTO:+0100
TZNAME:CET
END:STANDARD
END:VTIMEZONE
BEGIN:VEVENT
UID:7289-events@www.federmanager.it
DTSTART;TZID=Europe/Rome:20170214T150000
DTEND;TZID=Europe/Rome:20170214T170000
DTSTAMP;TZID=Europe/Rome:20170207T094413
SUMMARY:“Apprendere ad Intraprendere” Presentazione e modellizzazione d
 ell’esperienza pilota di alternanza scuola-lavoro.
URL:https://www.federmanager.it/eventi/apprendere-ad-intraprendere-presenta
 zione-modellizzazione-dellesperienza-pilota-alternanza-scuola-lavoro/
ORGANIZER;CN=Vises:
LOCATION:Via Galvani\, 108 - Roma
END:VEVENT
END:VCALENDAR