BEGIN:VCALENDAR
VERSION:2.0
PRODID:-//RIGHTHERE//CALENDARIZE IT V3.2//EN
BEGIN:VTIMEZONE
TZID:Europe/Rome
BEGIN:STANDARD
DTSTART:20251026T010000
TZOFFSETFROM:+0200
TZOFFSETTO:+0100
TZNAME:CET
END:STANDARD
BEGIN:DAYLIGHT
DTSTART:20260329T010000
TZOFFSETFROM:+0100
TZOFFSETTO:+0200
TZNAME:CEST
END:DAYLIGHT
BEGIN:STANDARD
DTSTART:20261025T010000
TZOFFSETFROM:+0200
TZOFFSETTO:+0100
TZNAME:CET
END:STANDARD
END:VTIMEZONE
BEGIN:VEVENT
UID:7344-events@www.federmanager.it
DTSTART;TZID=Europe/Rome:20170215T140000
DTEND;TZID=Europe/Rome:20170215T000000
DTSTAMP;TZID=Europe/Rome:20170210T114855
SUMMARY:Presentazione del 4° Rapporto “Il bilancio del sistema previdenz
 iale italiano. Andamenti finanziari e demografici delle pensioni e dell’
 assistenza per l’anno 2015”
URL:https://www.federmanager.it/eventi/presentazione-del-4-rapporto-bilanci
 o-del-sistema-previdenziale-italiano-andamenti-finanziari-demografici-dell
 e-pensioni-dellassistenza-lanno-2015/
ORGANIZER;CN=Itinerari Previdenziali:
END:VEVENT
END:VCALENDAR