BEGIN:VCALENDAR
VERSION:2.0
PRODID:-//RIGHTHERE//CALENDARIZE IT V3.2//EN
BEGIN:VTIMEZONE
TZID:Europe/Rome
BEGIN:STANDARD
DTSTART:20251026T010000
TZOFFSETFROM:+0200
TZOFFSETTO:+0100
TZNAME:CET
END:STANDARD
BEGIN:DAYLIGHT
DTSTART:20260329T010000
TZOFFSETFROM:+0100
TZOFFSETTO:+0200
TZNAME:CEST
END:DAYLIGHT
BEGIN:STANDARD
DTSTART:20261025T010000
TZOFFSETFROM:+0200
TZOFFSETTO:+0100
TZNAME:CET
END:STANDARD
END:VTIMEZONE
BEGIN:VEVENT
UID:7508-events@www.federmanager.it
DTSTART;TZID=Europe/Rome:20170401T090000
DTEND;TZID=Europe/Rome:20170401T130000
DTSTAMP;TZID=Europe/Rome:20170320T152008
SUMMARY:Bari – Welfare Federmanager – Gli Enti incontrano i Manager
URL:https://www.federmanager.it/eventi/welfare-federmanager-gli-enti-incont
 rano-manager/
ORGANIZER;CN=Federmanager:
LOCATION:Corso Cavour\, 32 Bari
END:VEVENT
END:VCALENDAR