BEGIN:VCALENDAR
VERSION:2.0
PRODID:-//RIGHTHERE//CALENDARIZE IT V3.2//EN
BEGIN:VTIMEZONE
TZID:Europe/Rome
BEGIN:STANDARD
DTSTART:20251026T010000
TZOFFSETFROM:+0200
TZOFFSETTO:+0100
TZNAME:CET
END:STANDARD
BEGIN:DAYLIGHT
DTSTART:20260329T010000
TZOFFSETFROM:+0100
TZOFFSETTO:+0200
TZNAME:CEST
END:DAYLIGHT
BEGIN:STANDARD
DTSTART:20261025T010000
TZOFFSETFROM:+0200
TZOFFSETTO:+0100
TZNAME:CET
END:STANDARD
END:VTIMEZONE
BEGIN:VEVENT
UID:7557-events@www.federmanager.it
DTSTART;TZID=Europe/Rome:20170406T170000
DTEND;TZID=Europe/Rome:20170406T000000
DTSTAMP;TZID=Europe/Rome:20170324T100959
SUMMARY:Latina – Industria 4.0 e analisi sull’industria del farmaco
URL:https://www.federmanager.it/eventi/industria-4-0-analisi-sullindustria-
 del-farmaco/
ORGANIZER;CN=Federmanager:
LOCATION:Via Emanuele Filiberto\, 14\, 04100 Latina LT
END:VEVENT
END:VCALENDAR