BEGIN:VCALENDAR
VERSION:2.0
PRODID:-//RIGHTHERE//CALENDARIZE IT V3.2//EN
BEGIN:VTIMEZONE
TZID:Europe/Rome
BEGIN:STANDARD
DTSTART:20251026T010000
TZOFFSETFROM:+0200
TZOFFSETTO:+0100
TZNAME:CET
END:STANDARD
BEGIN:DAYLIGHT
DTSTART:20260329T010000
TZOFFSETFROM:+0100
TZOFFSETTO:+0200
TZNAME:CEST
END:DAYLIGHT
BEGIN:STANDARD
DTSTART:20261025T010000
TZOFFSETFROM:+0200
TZOFFSETTO:+0100
TZNAME:CET
END:STANDARD
END:VTIMEZONE
BEGIN:VEVENT
UID:7657-events@www.federmanager.it
DTSTART;TZID=Europe/Rome:20170411T150000
DTEND;TZID=Europe/Rome:20170411T180000
DTSTAMP;TZID=Europe/Rome:20170403T120027
SUMMARY:La sanità giusta tra pubblico e privato
URL:https://www.federmanager.it/eventi/la-sanita-giusta-pubblico-privato/
ORGANIZER;CN=Federmanager:
LOCATION:Via Ciro il Grande\, 10-12\, 00144 Roma
END:VEVENT
END:VCALENDAR