BEGIN:VCALENDAR
VERSION:2.0
PRODID:-//RIGHTHERE//CALENDARIZE IT V3.2//EN
BEGIN:VTIMEZONE
TZID:Europe/Rome
BEGIN:STANDARD
DTSTART:20251026T010000
TZOFFSETFROM:+0200
TZOFFSETTO:+0100
TZNAME:CET
END:STANDARD
BEGIN:DAYLIGHT
DTSTART:20260329T010000
TZOFFSETFROM:+0100
TZOFFSETTO:+0200
TZNAME:CEST
END:DAYLIGHT
BEGIN:STANDARD
DTSTART:20261025T010000
TZOFFSETFROM:+0200
TZOFFSETTO:+0100
TZNAME:CET
END:STANDARD
END:VTIMEZONE
BEGIN:VEVENT
UID:7668-events@www.federmanager.it
DTSTART;TZID=Europe/Rome:20170411T140000
DTEND;TZID=Europe/Rome:20170411T000000
DTSTAMP;TZID=Europe/Rome:20170404T134734
SUMMARY:Industria 4.0 – Work different?
URL:https://www.federmanager.it/eventi/industria-4-0-work-different/
ORGANIZER;CN=Federmanager:
LOCATION:Piazza Cavour\, 4 47921 Rimini RN
END:VEVENT
END:VCALENDAR