BEGIN:VCALENDAR
VERSION:2.0
PRODID:-//RIGHTHERE//CALENDARIZE IT V3.2//EN
BEGIN:VTIMEZONE
TZID:Europe/Rome
BEGIN:STANDARD
DTSTART:20251026T010000
TZOFFSETFROM:+0200
TZOFFSETTO:+0100
TZNAME:CET
END:STANDARD
BEGIN:DAYLIGHT
DTSTART:20260329T010000
TZOFFSETFROM:+0100
TZOFFSETTO:+0200
TZNAME:CEST
END:DAYLIGHT
BEGIN:STANDARD
DTSTART:20261025T010000
TZOFFSETFROM:+0200
TZOFFSETTO:+0100
TZNAME:CET
END:STANDARD
END:VTIMEZONE
BEGIN:VEVENT
UID:7836-events@www.federmanager.it
DTSTART;TZID=Europe/Rome:20170420T163000
DTEND;TZID=Europe/Rome:20170420T193000
DTSTAMP;TZID=Europe/Rome:20170418T112551
SUMMARY:Smart working. Come cambia il lavoro nell’era della trasformazion
 e digitale
URL:https://www.federmanager.it/eventi/smart-working-cambia-lavoro-nellera-
 della-trasformazione-digitale/
ORGANIZER;CN=Federmanager:
LOCATION:Napoli
END:VEVENT
END:VCALENDAR