BEGIN:VCALENDAR
VERSION:2.0
PRODID:-//RIGHTHERE//CALENDARIZE IT V3.2//EN
BEGIN:VTIMEZONE
TZID:Europe/Rome
BEGIN:STANDARD
DTSTART:20251026T010000
TZOFFSETFROM:+0200
TZOFFSETTO:+0100
TZNAME:CET
END:STANDARD
BEGIN:DAYLIGHT
DTSTART:20260329T010000
TZOFFSETFROM:+0100
TZOFFSETTO:+0200
TZNAME:CEST
END:DAYLIGHT
BEGIN:STANDARD
DTSTART:20261025T010000
TZOFFSETFROM:+0200
TZOFFSETTO:+0100
TZNAME:CET
END:STANDARD
END:VTIMEZONE
BEGIN:VEVENT
UID:7889-events@www.federmanager.it
DTSTART;VALUE=DATE:20170520
DTEND;VALUE=DATE:20170520
DTSTAMP;TZID=Europe/Rome:20170418T165838
SUMMARY:Assemblea Federmanager Vicenza
URL:https://www.federmanager.it/eventi/assemblea-federmanager-vicenza/
ORGANIZER;CN=Federmanager:
END:VEVENT
END:VCALENDAR