BEGIN:VCALENDAR
VERSION:2.0
PRODID:-//RIGHTHERE//CALENDARIZE IT V3.2//EN
BEGIN:VTIMEZONE
TZID:Europe/Rome
BEGIN:STANDARD
DTSTART:20251026T010000
TZOFFSETFROM:+0200
TZOFFSETTO:+0100
TZNAME:CET
END:STANDARD
BEGIN:DAYLIGHT
DTSTART:20260329T010000
TZOFFSETFROM:+0100
TZOFFSETTO:+0200
TZNAME:CEST
END:DAYLIGHT
BEGIN:STANDARD
DTSTART:20261025T010000
TZOFFSETFROM:+0200
TZOFFSETTO:+0100
TZNAME:CET
END:STANDARD
END:VTIMEZONE
BEGIN:VEVENT
UID:7906-events@www.federmanager.it
DTSTART;VALUE=DATE:20170617
DTEND;VALUE=DATE:20170617
DTSTAMP;TZID=Europe/Rome:20170418T170726
SUMMARY:Assemblea Federmanager Parma
URL:https://www.federmanager.it/eventi/assemblea-federmanager-parma/
ORGANIZER;CN=Federmanager:
LOCATION:Piazzale S. Francesco\, 1\, 43121 Parma PR
END:VEVENT
END:VCALENDAR