BEGIN:VCALENDAR
VERSION:2.0
PRODID:-//RIGHTHERE//CALENDARIZE IT V3.2//EN
BEGIN:VTIMEZONE
TZID:Europe/Rome
BEGIN:STANDARD
DTSTART:20251026T010000
TZOFFSETFROM:+0200
TZOFFSETTO:+0100
TZNAME:CET
END:STANDARD
BEGIN:DAYLIGHT
DTSTART:20260329T010000
TZOFFSETFROM:+0100
TZOFFSETTO:+0200
TZNAME:CEST
END:DAYLIGHT
BEGIN:STANDARD
DTSTART:20261025T010000
TZOFFSETFROM:+0200
TZOFFSETTO:+0100
TZNAME:CET
END:STANDARD
END:VTIMEZONE
BEGIN:VEVENT
UID:8206-events@www.federmanager.it
DTSTART;TZID=Europe/Rome:20170613T180000
DTEND;TZID=Europe/Rome:20170613T000000
DTSTAMP;TZID=Europe/Rome:20170605T155229
SUMMARY:Real Estate & Long Term Care: Prospettive di sviluppo e di investim
 ento nel settore delle residenze per anziani
URL:https://www.federmanager.it/eventi/real-estate-long-term-care-prospetti
 ve-sviluppo-investimento-nel-settore-delle-residenze-anziani/
ORGANIZER;CN=Federmanager:
LOCATION:Via Ravenna 14 Roma
END:VEVENT
END:VCALENDAR