BEGIN:VCALENDAR
VERSION:2.0
PRODID:-//RIGHTHERE//CALENDARIZE IT V3.2//EN
BEGIN:VTIMEZONE
TZID:Europe/Rome
BEGIN:STANDARD
DTSTART:20251026T010000
TZOFFSETFROM:+0200
TZOFFSETTO:+0100
TZNAME:CET
END:STANDARD
BEGIN:DAYLIGHT
DTSTART:20260329T010000
TZOFFSETFROM:+0100
TZOFFSETTO:+0200
TZNAME:CEST
END:DAYLIGHT
BEGIN:STANDARD
DTSTART:20261025T010000
TZOFFSETFROM:+0200
TZOFFSETTO:+0100
TZNAME:CET
END:STANDARD
END:VTIMEZONE
BEGIN:VEVENT
UID:8212-events@www.federmanager.it
DTSTART;TZID=Europe/Rome:20170606T170000
DTEND;TZID=Europe/Rome:20170606T190000
DTSTAMP;TZID=Europe/Rome:20170605T160546
SUMMARY:Ricette vincenti per le PMI del territorio – Il Temporary Managem
 ent
URL:https://www.federmanager.it/eventi/ricette-vincenti-le-pmi-del-territor
 io-temporary-management/
END:VEVENT
END:VCALENDAR