BEGIN:VCALENDAR
VERSION:2.0
PRODID:-//RIGHTHERE//CALENDARIZE IT V3.2//EN
BEGIN:VTIMEZONE
TZID:Europe/Rome
BEGIN:STANDARD
DTSTART:20251026T010000
TZOFFSETFROM:+0200
TZOFFSETTO:+0100
TZNAME:CET
END:STANDARD
BEGIN:DAYLIGHT
DTSTART:20260329T010000
TZOFFSETFROM:+0100
TZOFFSETTO:+0200
TZNAME:CEST
END:DAYLIGHT
BEGIN:STANDARD
DTSTART:20261025T010000
TZOFFSETFROM:+0200
TZOFFSETTO:+0100
TZNAME:CET
END:STANDARD
END:VTIMEZONE
BEGIN:VEVENT
UID:8307-events@www.federmanager.it
DTSTART;TZID=Europe/Rome:20170622T103000
DTEND;TZID=Europe/Rome:20170622T000000
DTSTAMP;TZID=Europe/Rome:20170621T163109
SUMMARY:Consulta Nazionale Seniores – Segui diretta streaming dalle ore 1
 0\,30
URL:https://www.federmanager.it/eventi/consulta-nazionale-seniores-22-giugn
 o-2017/
ORGANIZER;CN=Federmanager:
END:VEVENT
END:VCALENDAR