BEGIN:VCALENDAR
VERSION:2.0
PRODID:-//RIGHTHERE//CALENDARIZE IT V3.2//EN
BEGIN:VTIMEZONE
TZID:Europe/Rome
BEGIN:STANDARD
DTSTART:20251026T010000
TZOFFSETFROM:+0200
TZOFFSETTO:+0100
TZNAME:CET
END:STANDARD
BEGIN:DAYLIGHT
DTSTART:20260329T010000
TZOFFSETFROM:+0100
TZOFFSETTO:+0200
TZNAME:CEST
END:DAYLIGHT
BEGIN:STANDARD
DTSTART:20261025T010000
TZOFFSETFROM:+0200
TZOFFSETTO:+0100
TZNAME:CET
END:STANDARD
END:VTIMEZONE
BEGIN:VEVENT
UID:8324-events@www.federmanager.it
DTSTART;TZID=Europe/Rome:20170707T110000
DTEND;TZID=Europe/Rome:20170707T000000
DTSTAMP;TZID=Europe/Rome:20170623T124921
SUMMARY:Commissioni di settore â€“ Il rilancio di Ilva per il futuro dellâ€
 ™industria siderurgia in Italia
URL:https://www.federmanager.it/eventi/commissioni-settore-rilancio-ilva-fu
 turo-dellindustria-siderurgia-italia/
ORGANIZER;CN=Federmanager:
LOCATION:Via Ravenna 14 Roma
END:VEVENT
END:VCALENDAR