BEGIN:VCALENDAR
VERSION:2.0
PRODID:-//RIGHTHERE//CALENDARIZE IT V3.2//EN
BEGIN:VTIMEZONE
TZID:Europe/Rome
BEGIN:STANDARD
DTSTART:20251026T010000
TZOFFSETFROM:+0200
TZOFFSETTO:+0100
TZNAME:CET
END:STANDARD
BEGIN:DAYLIGHT
DTSTART:20260329T010000
TZOFFSETFROM:+0100
TZOFFSETTO:+0200
TZNAME:CEST
END:DAYLIGHT
BEGIN:STANDARD
DTSTART:20261025T010000
TZOFFSETFROM:+0200
TZOFFSETTO:+0100
TZNAME:CET
END:STANDARD
END:VTIMEZONE
BEGIN:VEVENT
UID:8350-events@www.federmanager.it
DTSTART;VALUE=DATE:20170705
DTEND;VALUE=DATE:20170708
DTSTAMP;TZID=Europe/Rome:20170704T110013
SUMMARY:Expoelette 2017 – Forum internazionale delle donne al governo del
 la politica e dell’economia
URL:https://www.federmanager.it/eventi/expoelette-2017-forum-internazionale
 -delle-donne-al-governo-della-politica-delleconomia/
ORGANIZER;CN=Federmanager:
LOCATION:Via B. Biandrate\, 31\, 10090 San Giorgio Canavese TO
END:VEVENT
END:VCALENDAR