BEGIN:VCALENDAR
VERSION:2.0
PRODID:-//RIGHTHERE//CALENDARIZE IT V3.2//EN
BEGIN:VTIMEZONE
TZID:Europe/Rome
BEGIN:STANDARD
DTSTART:20251026T010000
TZOFFSETFROM:+0200
TZOFFSETTO:+0100
TZNAME:CET
END:STANDARD
BEGIN:DAYLIGHT
DTSTART:20260329T010000
TZOFFSETFROM:+0100
TZOFFSETTO:+0200
TZNAME:CEST
END:DAYLIGHT
BEGIN:STANDARD
DTSTART:20261025T010000
TZOFFSETFROM:+0200
TZOFFSETTO:+0100
TZNAME:CET
END:STANDARD
END:VTIMEZONE
BEGIN:VEVENT
UID:8358-events@www.federmanager.it
DTSTART;TZID=Europe/Rome:20170714T093000
DTEND;TZID=Europe/Rome:20170714T133000
DTSTAMP;TZID=Europe/Rome:20170710T111815
SUMMARY:Il primo contratto di lavoro che regola i professional nelle PMI
URL:https://www.federmanager.it/eventi/primo-contratto-lavoro-regola-profes
 sional-nelle-pmi/
ORGANIZER;CN=Federmanager:
LOCATION:Via Gezio Calini\, 30\, 25121 Brescia BS
END:VEVENT
END:VCALENDAR