BEGIN:VCALENDAR
VERSION:2.0
PRODID:-//RIGHTHERE//CALENDARIZE IT V3.2//EN
BEGIN:VTIMEZONE
TZID:Europe/Rome
BEGIN:STANDARD
DTSTART:20251026T010000
TZOFFSETFROM:+0200
TZOFFSETTO:+0100
TZNAME:CET
END:STANDARD
BEGIN:DAYLIGHT
DTSTART:20260329T010000
TZOFFSETFROM:+0100
TZOFFSETTO:+0200
TZNAME:CEST
END:DAYLIGHT
BEGIN:STANDARD
DTSTART:20261025T010000
TZOFFSETFROM:+0200
TZOFFSETTO:+0100
TZNAME:CET
END:STANDARD
END:VTIMEZONE
BEGIN:VEVENT
UID:8366-events@www.federmanager.it
DTSTART;TZID=Europe/Rome:20170714T150000
DTEND;TZID=Europe/Rome:20170714T000000
DTSTAMP;TZID=Europe/Rome:20170710T170720
SUMMARY:Industria 4.0:  digitalizzazione e connessione del  sistema industr
 iale Siciliano
URL:https://www.federmanager.it/eventi/industria-4-0-digitalizzazione-conne
 ssione-del-sistema-industriale-siciliano/
ORGANIZER;CN=Federmanager:
LOCATION:Viale Presidente Kennedy\, 95121 Catania CT
END:VEVENT
END:VCALENDAR