BEGIN:VCALENDAR
VERSION:2.0
PRODID:-//RIGHTHERE//CALENDARIZE IT V3.2//EN
BEGIN:VTIMEZONE
TZID:Europe/Rome
BEGIN:STANDARD
DTSTART:20251026T010000
TZOFFSETFROM:+0200
TZOFFSETTO:+0100
TZNAME:CET
END:STANDARD
BEGIN:DAYLIGHT
DTSTART:20260329T010000
TZOFFSETFROM:+0100
TZOFFSETTO:+0200
TZNAME:CEST
END:DAYLIGHT
BEGIN:STANDARD
DTSTART:20261025T010000
TZOFFSETFROM:+0200
TZOFFSETTO:+0100
TZNAME:CET
END:STANDARD
END:VTIMEZONE
BEGIN:VEVENT
UID:8377-events@www.federmanager.it
DTSTART;VALUE=DATE:20170713
DTEND;VALUE=DATE:20170713
DTSTAMP;TZID=Europe/Rome:20170713T090923
SUMMARY:Fondirigenti incontra: I protagonisti della trasformazione digitale
 delle imprese
URL:https://www.federmanager.it/eventi/fondirigenti-incontra-protagonisti-d
 ella-trasformazione-digitale-delle-imprese/
ORGANIZER;CN=Federmanager:
END:VEVENT
END:VCALENDAR