BEGIN:VCALENDAR
VERSION:2.0
PRODID:-//RIGHTHERE//CALENDARIZE IT V3.2//EN
BEGIN:VTIMEZONE
TZID:Europe/Rome
BEGIN:STANDARD
DTSTART:20251026T010000
TZOFFSETFROM:+0200
TZOFFSETTO:+0100
TZNAME:CET
END:STANDARD
BEGIN:DAYLIGHT
DTSTART:20260329T010000
TZOFFSETFROM:+0100
TZOFFSETTO:+0200
TZNAME:CEST
END:DAYLIGHT
BEGIN:STANDARD
DTSTART:20261025T010000
TZOFFSETFROM:+0200
TZOFFSETTO:+0100
TZNAME:CET
END:STANDARD
END:VTIMEZONE
BEGIN:VEVENT
UID:8602-events@www.federmanager.it
DTSTART;TZID=Europe/Rome:20171005T173000
DTEND;TZID=Europe/Rome:20171005T000000
DTSTAMP;TZID=Europe/Rome:20171002T175315
SUMMARY:Welfare globale: Aziendale e per il Pensionato
URL:https://www.federmanager.it/eventi/welfare-globale-aziendale-pensionato
 /
ORGANIZER;CN=Federmanager:
LOCATION:Via Paolo Solaroli\, 8\, 28100 Novara NO
END:VEVENT
END:VCALENDAR