BEGIN:VCALENDAR
VERSION:2.0
PRODID:-//RIGHTHERE//CALENDARIZE IT V3.2//EN
BEGIN:VTIMEZONE
TZID:Europe/Rome
BEGIN:STANDARD
DTSTART:20251026T010000
TZOFFSETFROM:+0200
TZOFFSETTO:+0100
TZNAME:CET
END:STANDARD
BEGIN:DAYLIGHT
DTSTART:20260329T010000
TZOFFSETFROM:+0100
TZOFFSETTO:+0200
TZNAME:CEST
END:DAYLIGHT
BEGIN:STANDARD
DTSTART:20261025T010000
TZOFFSETFROM:+0200
TZOFFSETTO:+0100
TZNAME:CET
END:STANDARD
END:VTIMEZONE
BEGIN:VEVENT
UID:8730-events@www.federmanager.it
DTSTART;TZID=Europe/Rome:20171028T100000
DTEND;TZID=Europe/Rome:20171028T000000
DTSTAMP;TZID=Europe/Rome:20171019T172144
SUMMARY:Industry 4.0 – Governare la DIREXIT
URL:https://www.federmanager.it/eventi/industry-4-0-governare-la-direxit/
ORGANIZER;CN=Federmanager:
LOCATION:Hotel BHR - Treviso
END:VEVENT
END:VCALENDAR