BEGIN:VCALENDAR
VERSION:2.0
PRODID:-//RIGHTHERE//CALENDARIZE IT V3.2//EN
BEGIN:VTIMEZONE
TZID:Europe/Rome
BEGIN:STANDARD
DTSTART:20251026T010000
TZOFFSETFROM:+0200
TZOFFSETTO:+0100
TZNAME:CET
END:STANDARD
BEGIN:DAYLIGHT
DTSTART:20260329T010000
TZOFFSETFROM:+0100
TZOFFSETTO:+0200
TZNAME:CEST
END:DAYLIGHT
BEGIN:STANDARD
DTSTART:20261025T010000
TZOFFSETFROM:+0200
TZOFFSETTO:+0100
TZNAME:CET
END:STANDARD
END:VTIMEZONE
BEGIN:VEVENT
UID:8733-events@www.federmanager.it
DTSTART;TZID=Europe/Rome:20171026T100000
DTEND;TZID=Europe/Rome:20171026T000000
DTSTAMP;TZID=Europe/Rome:20171030T134136
SUMMARY:Il manager del futuro: incontro tra il fare ed il sapere
URL:https://www.federmanager.it/eventi/manager-del-futuro-incontro-ed-saper
 e/
ORGANIZER;CN=Federmanager:
LOCATION:Viale Pindaro\, 42\, 65122 Pescara PE
END:VEVENT
END:VCALENDAR