BEGIN:VCALENDAR
VERSION:2.0
PRODID:-//RIGHTHERE//CALENDARIZE IT V3.2//EN
BEGIN:VTIMEZONE
TZID:Europe/Rome
BEGIN:STANDARD
DTSTART:20251026T010000
TZOFFSETFROM:+0200
TZOFFSETTO:+0100
TZNAME:CET
END:STANDARD
BEGIN:DAYLIGHT
DTSTART:20260329T010000
TZOFFSETFROM:+0100
TZOFFSETTO:+0200
TZNAME:CEST
END:DAYLIGHT
BEGIN:STANDARD
DTSTART:20261025T010000
TZOFFSETFROM:+0200
TZOFFSETTO:+0100
TZNAME:CET
END:STANDARD
END:VTIMEZONE
BEGIN:VEVENT
UID:8800-events@www.federmanager.it
DTSTART;TZID=Europe/Rome:20171031T113000
DTEND;TZID=Europe/Rome:20171031T000000
DTSTAMP;TZID=Europe/Rome:20171030T133843
SUMMARY:Managerialità e formazione
URL:https://www.federmanager.it/eventi/managerialita-e-formazione/
ORGANIZER;CN=Federmanager:
LOCATION:Banchi di Sotto\, 55\, 53100 Siena SI
END:VEVENT
END:VCALENDAR