BEGIN:VCALENDAR
VERSION:2.0
PRODID:-//RIGHTHERE//CALENDARIZE IT V3.2//EN
BEGIN:VTIMEZONE
TZID:Europe/Rome
BEGIN:STANDARD
DTSTART:20251026T010000
TZOFFSETFROM:+0200
TZOFFSETTO:+0100
TZNAME:CET
END:STANDARD
BEGIN:DAYLIGHT
DTSTART:20260329T010000
TZOFFSETFROM:+0100
TZOFFSETTO:+0200
TZNAME:CEST
END:DAYLIGHT
BEGIN:STANDARD
DTSTART:20261025T010000
TZOFFSETFROM:+0200
TZOFFSETTO:+0100
TZNAME:CET
END:STANDARD
END:VTIMEZONE
BEGIN:VEVENT
UID:8819-events@www.federmanager.it
DTSTART;TZID=Europe/Rome:20171103T173000
DTEND;TZID=Europe/Rome:20171103T000000
DTSTAMP;TZID=Europe/Rome:20171103T101031
SUMMARY:Dalla distopia all’utopia della innovazione 4.0
URL:https://www.federmanager.it/eventi/dalla-distopia-allutopia-della-innov
 azione-4-0/
ORGANIZER;CN=Federmanager:
LOCATION:Via Gemona\, 92\, 33100 Udine UD
END:VEVENT
END:VCALENDAR