BEGIN:VCALENDAR
VERSION:2.0
PRODID:-//RIGHTHERE//CALENDARIZE IT V3.2//EN
BEGIN:VTIMEZONE
TZID:Europe/Rome
BEGIN:STANDARD
DTSTART:20251026T010000
TZOFFSETFROM:+0200
TZOFFSETTO:+0100
TZNAME:CET
END:STANDARD
BEGIN:DAYLIGHT
DTSTART:20260329T010000
TZOFFSETFROM:+0100
TZOFFSETTO:+0200
TZNAME:CEST
END:DAYLIGHT
BEGIN:STANDARD
DTSTART:20261025T010000
TZOFFSETFROM:+0200
TZOFFSETTO:+0100
TZNAME:CET
END:STANDARD
END:VTIMEZONE
BEGIN:VEVENT
UID:8828-events@www.federmanager.it
DTSTART;VALUE=DATE:20171123
DTEND;VALUE=DATE:20171126
DTSTAMP;TZID=Europe/Rome:20171107T124441
SUMMARY:Partnership GRUPPO GIOVANI Federmanager con LEAN ENTERPRISE MACHINE
URL:https://www.federmanager.it/eventi/partnership-gruppo-giovani-federmana
 ger-lean-enterprise-machine/
LOCATION:Via Giovanni Durando\, 39\, 20158 Milano MI
END:VEVENT
END:VCALENDAR